BEGIN:VCALENDAR
VERSION:2.0
PRODID:-//Kelly Faces - ECPv6.15.20//NONSGML v1.0//EN
CALSCALE:GREGORIAN
METHOD:PUBLISH
X-WR-CALNAME:Kelly Faces
X-ORIGINAL-URL:https://kelly-faces.com
X-WR-CALDESC:Veranstaltungen für Kelly Faces
REFRESH-INTERVAL;VALUE=DURATION:PT1H
X-Robots-Tag:noindex
X-PUBLISHED-TTL:PT1H
BEGIN:VTIMEZONE
TZID:Europe/Berlin
BEGIN:DAYLIGHT
TZOFFSETFROM:+0100
TZOFFSETTO:+0200
TZNAME:CEST
DTSTART:20240331T010000
END:DAYLIGHT
BEGIN:STANDARD
TZOFFSETFROM:+0200
TZOFFSETTO:+0100
TZNAME:CET
DTSTART:20241027T010000
END:STANDARD
BEGIN:DAYLIGHT
TZOFFSETFROM:+0100
TZOFFSETTO:+0200
TZNAME:CEST
DTSTART:20250330T010000
END:DAYLIGHT
BEGIN:STANDARD
TZOFFSETFROM:+0200
TZOFFSETTO:+0100
TZNAME:CET
DTSTART:20251026T010000
END:STANDARD
BEGIN:DAYLIGHT
TZOFFSETFROM:+0100
TZOFFSETTO:+0200
TZNAME:CEST
DTSTART:20260329T010000
END:DAYLIGHT
BEGIN:STANDARD
TZOFFSETFROM:+0200
TZOFFSETTO:+0100
TZNAME:CET
DTSTART:20261025T010000
END:STANDARD
END:VTIMEZONE
BEGIN:VEVENT
DTSTART;TZID=Europe/Berlin:20251109T120000
DTEND;TZID=Europe/Berlin:20251115T200000
DTSTAMP:20260423T105521
CREATED:20251009T205300Z
LAST-MODIFIED:20251009T205452Z
UID:29459-1762689600-1763236800@kelly-faces.com
SUMMARY:Messe AGRITECHNICA 2025 in Hannover
DESCRIPTION:
URL:https://kelly-faces.com/event/messe-agritechnica-2025-in-hannover/
LOCATION:Hannover
CATEGORIES:Deutsch,models,Messsestand,booth,standhostsess,Hostessen
END:VEVENT
END:VCALENDAR