BEGIN:VCALENDAR
VERSION:2.0
PRODID:-//Kelly Faces - ECPv6.15.20//NONSGML v1.0//EN
CALSCALE:GREGORIAN
METHOD:PUBLISH
X-ORIGINAL-URL:https://kelly-faces.com
X-WR-CALDESC:Veranstaltungen für Kelly Faces
REFRESH-INTERVAL;VALUE=DURATION:PT1H
X-Robots-Tag:noindex
X-PUBLISHED-TTL:PT1H
BEGIN:VTIMEZONE
TZID:Europe/Berlin
BEGIN:DAYLIGHT
TZOFFSETFROM:+0100
TZOFFSETTO:+0200
TZNAME:CEST
DTSTART:20240331T010000
END:DAYLIGHT
BEGIN:STANDARD
TZOFFSETFROM:+0200
TZOFFSETTO:+0100
TZNAME:CET
DTSTART:20241027T010000
END:STANDARD
BEGIN:DAYLIGHT
TZOFFSETFROM:+0100
TZOFFSETTO:+0200
TZNAME:CEST
DTSTART:20250330T010000
END:DAYLIGHT
BEGIN:STANDARD
TZOFFSETFROM:+0200
TZOFFSETTO:+0100
TZNAME:CET
DTSTART:20251026T010000
END:STANDARD
BEGIN:DAYLIGHT
TZOFFSETFROM:+0100
TZOFFSETTO:+0200
TZNAME:CEST
DTSTART:20260329T010000
END:DAYLIGHT
BEGIN:STANDARD
TZOFFSETFROM:+0200
TZOFFSETTO:+0100
TZNAME:CET
DTSTART:20261025T010000
END:STANDARD
END:VTIMEZONE
BEGIN:VEVENT
DTSTART;VALUE=DATE:20251028
DTEND;VALUE=DATE:20251030
DTSTAMP:20260421T074715
CREATED:20251021T204841Z
LAST-MODIFIED:20251021T204841Z
UID:29479-1761609600-1761782399@kelly-faces.com
SUMMARY:Leitmesse DKM 2025 in Dortmund
DESCRIPTION:
URL:https://kelly-faces.com/event/leitmesse-dkm-2025-in-dortmund/
LOCATION:Nordrhein Westfalen
CATEGORIES:Messsestand,booth,standhostsess,Deutsch,models,kollektion,Fotograf,Kamera,Internationale Messe
END:VEVENT
END:VCALENDAR