BEGIN:VCALENDAR
VERSION:2.0
PRODID:-//Kelly Faces - ECPv6.15.20//NONSGML v1.0//EN
CALSCALE:GREGORIAN
METHOD:PUBLISH
X-ORIGINAL-URL:https://kelly-faces.com
X-WR-CALDESC:Veranstaltungen für Kelly Faces
REFRESH-INTERVAL;VALUE=DURATION:PT1H
X-Robots-Tag:noindex
X-PUBLISHED-TTL:PT1H
BEGIN:VTIMEZONE
TZID:Europe/Berlin
BEGIN:DAYLIGHT
TZOFFSETFROM:+0100
TZOFFSETTO:+0200
TZNAME:CEST
DTSTART:20240331T010000
END:DAYLIGHT
BEGIN:STANDARD
TZOFFSETFROM:+0200
TZOFFSETTO:+0100
TZNAME:CET
DTSTART:20241027T010000
END:STANDARD
BEGIN:DAYLIGHT
TZOFFSETFROM:+0100
TZOFFSETTO:+0200
TZNAME:CEST
DTSTART:20250330T010000
END:DAYLIGHT
BEGIN:STANDARD
TZOFFSETFROM:+0200
TZOFFSETTO:+0100
TZNAME:CET
DTSTART:20251026T010000
END:STANDARD
BEGIN:DAYLIGHT
TZOFFSETFROM:+0100
TZOFFSETTO:+0200
TZNAME:CEST
DTSTART:20260329T010000
END:DAYLIGHT
BEGIN:STANDARD
TZOFFSETFROM:+0200
TZOFFSETTO:+0100
TZNAME:CET
DTSTART:20261025T010000
END:STANDARD
END:VTIMEZONE
BEGIN:VEVENT
DTSTART;VALUE=DATE:20250918
DTEND;VALUE=DATE:20250921
DTSTAMP:20260421T013619
CREATED:20250831T170156Z
LAST-MODIFIED:20250831T170217Z
UID:29371-1758153600-1758412799@kelly-faces.com
SUMMARY:Weltweit größte Messe InterTabac 2025 in Dortmund
DESCRIPTION:
URL:https://kelly-faces.com/event/weltweit-groesste-messe-intertabac-2025-in-dortmund/
LOCATION:Dortmund\, Rheinlanddamm 200\, Dortmund\, Nordrhein Westfalen\, 44139\, Deutschland
ATTACH;FMTTYPE=image/jpeg:https://kelly-faces.com/wp-content/uploads/2025/08/IMG_9428.jpg
END:VEVENT
END:VCALENDAR